BEGIN:VCALENDAR
VERSION:2.0
BEGIN:VEVENT
URL:https://mypiloci.pl/jomsocial/wydarzenia/viewevent/292-air-fair-wszystko-dla-lotnictwa 
DTSTART:20110520T090000
DTEND:20110521T170000
SUMMARY:AIR FAIR - Wszystko dla lotnictwa
DESCRIPTION:For details, click here: https://mypiloci.pl/jomsocial/wydarzenia/viewevent/292-air-fair-wszystko-dla-lotnictwa
LOCATION:Bydgoszcz ul. Szubińska 107 
END:VEVENT
END:VCALENDAR