BEGIN:VCALENDAR
VERSION:2.0
BEGIN:VEVENT
URL:https://mypiloci.pl/jomsocial/wydarzenia/viewevent/288-iv-rodzinny-piknik-lotniczy-w-grylinach 
DTSTART:20110619T090000
DTEND:20110619T180000
SUMMARY:IV Rodzinny Piknik Lotniczy w Gryźlinach
DESCRIPTION:For details, click here: https://mypiloci.pl/jomsocial/wydarzenia/viewevent/288-iv-rodzinny-piknik-lotniczy-w-grylinach
LOCATION:Gryźliny k/Olsztynka
END:VEVENT
END:VCALENDAR