BEGIN:VCALENDAR
VERSION:2.0
BEGIN:VEVENT
URL:https://mypiloci.pl/jomsocial/wydarzenia/viewevent/25-wito-lotnictwa-polskiego 
DTSTART:20110828T080000
DTEND:20110828T170000
SUMMARY:Święto Lotnictwa Polskiego
DESCRIPTION:For details, click here: https://mypiloci.pl/jomsocial/wydarzenia/viewevent/25-wito-lotnictwa-polskiego
LOCATION:Polska
END:VEVENT
END:VCALENDAR