BEGIN:VCALENDAR
VERSION:2.0
BEGIN:VEVENT
URL:https://mypiloci.pl/jomsocial/wydarzenia/viewevent/15-piknik-lotniczy 
DTSTART:20110618T090000
DTEND:20110619T170000
SUMMARY:Piknik Lotniczy
DESCRIPTION:For details, click here: https://mypiloci.pl/jomsocial/wydarzenia/viewevent/15-piknik-lotniczy
LOCATION:Płock
END:VEVENT
END:VCALENDAR